BEGIN:VCALENDAR
VERSION:2.0
PRODID:-//Gymnastics Unlimited - ECPv6.15.17.1//NONSGML v1.0//EN
CALSCALE:GREGORIAN
METHOD:PUBLISH
X-ORIGINAL-URL:https://gusalidagym.com
X-WR-CALDESC:Events for Gymnastics Unlimited
REFRESH-INTERVAL;VALUE=DURATION:PT1H
X-Robots-Tag:noindex
X-PUBLISHED-TTL:PT1H
BEGIN:VTIMEZONE
TZID:UTC
BEGIN:STANDARD
TZOFFSETFROM:+0000
TZOFFSETTO:+0000
TZNAME:UTC
DTSTART:20230101T000000
END:STANDARD
END:VTIMEZONE
BEGIN:VEVENT
DTSTART;TZID=UTC:20240925T161000
DTEND;TZID=UTC:20240925T170500
DTSTAMP:20260422T185820
CREATED:20240925T231618Z
LAST-MODIFIED:20240925T231618Z
UID:4573-1727280600-1727283900@gusalidagym.com
SUMMARY:Pre-Progressive 1/2
DESCRIPTION:
URL:https://gusalidagym.com/event/pre-progressive-1-2-9/
CATEGORIES:Pre-Progressive 1/2
END:VEVENT
BEGIN:VEVENT
DTSTART;TZID=UTC:20240925T171000
DTEND;TZID=UTC:20240925T180500
DTSTAMP:20260422T185820
CREATED:20240925T231829Z
LAST-MODIFIED:20240925T231829Z
UID:4576-1727284200-1727287500@gusalidagym.com
SUMMARY:Pre-Progressive 1/2
DESCRIPTION:
URL:https://gusalidagym.com/event/pre-progressive-1-2-10/
CATEGORIES:Pre-Progressive 1/2
END:VEVENT
BEGIN:VEVENT
DTSTART;TZID=UTC:20240925T181000
DTEND;TZID=UTC:20240925T190500
DTSTAMP:20260422T185820
CREATED:20240925T231943Z
LAST-MODIFIED:20240925T231943Z
UID:4579-1727287800-1727291100@gusalidagym.com
SUMMARY:Pre-Progressive 1/2
DESCRIPTION:
URL:https://gusalidagym.com/event/pre-progressive-1-2-11/
CATEGORIES:Pre-Progressive 1/2
END:VEVENT
BEGIN:VEVENT
DTSTART;TZID=UTC:20240925T191000
DTEND;TZID=UTC:20240925T200500
DTSTAMP:20260422T185820
CREATED:20240925T232212Z
LAST-MODIFIED:20240925T232212Z
UID:4582-1727291400-1727294700@gusalidagym.com
SUMMARY:Pre-Progressive 1/2
DESCRIPTION:
URL:https://gusalidagym.com/event/pre-progressive-1-2-12/
CATEGORIES:Pre-Progressive 1/2
END:VEVENT
END:VCALENDAR